BEGIN:VCALENDAR
VERSION:2.0
PRODID:-//Rescue Us Mission - Today is a good day to be FREE! - ECPv6.15.20//NONSGML v1.0//EN
CALSCALE:GREGORIAN
METHOD:PUBLISH
X-ORIGINAL-URL:https://rescueusmission.org
X-WR-CALDESC:Events for Rescue Us Mission - Today is a good day to be FREE!
REFRESH-INTERVAL;VALUE=DURATION:PT1H
X-Robots-Tag:noindex
X-PUBLISHED-TTL:PT1H
BEGIN:VTIMEZONE
TZID:UTC
BEGIN:STANDARD
TZOFFSETFROM:+0000
TZOFFSETTO:+0000
TZNAME:UTC
DTSTART:20220101T000000
END:STANDARD
END:VTIMEZONE
BEGIN:VEVENT
DTSTART;VALUE=DATE:20231217
DTEND;VALUE=DATE:20231218
DTSTAMP:20260424T192855
CREATED:20251210T092513Z
LAST-MODIFIED:20251218T173207Z
UID:737-1702771200-1702857599@rescueusmission.org
SUMMARY:End of Year Party 2023
DESCRIPTION:2023 End of the Year Party and Survivor’s Achievement. We had an awesome time with friends\, volunteers and partners as we celebrated the Christmas season reminiscing on God’s blessings and all we were able to do in 2023. \n    \n 
URL:https://rescueusmission.org/event/end-of-year-party/
CATEGORIES:Rescue Us Mission
ATTACH;FMTTYPE=image/jpeg:https://rescueusmission.org/wp-content/uploads/2025/12/WhatsApp-Image-2023-12-19-at-13.20.59-1.jpeg
END:VEVENT
END:VCALENDAR