BEGIN:VCALENDAR
VERSION:2.0
PRODID:-//Rescue Us Mission - Today is a good day to be FREE! - ECPv6.15.19//NONSGML v1.0//EN
CALSCALE:GREGORIAN
METHOD:PUBLISH
X-WR-CALNAME:Rescue Us Mission - Today is a good day to be FREE!
X-ORIGINAL-URL:https://rescueusmission.org
X-WR-CALDESC:Events for Rescue Us Mission - Today is a good day to be FREE!
REFRESH-INTERVAL;VALUE=DURATION:PT1H
X-Robots-Tag:noindex
X-PUBLISHED-TTL:PT1H
BEGIN:VTIMEZONE
TZID:UTC
BEGIN:STANDARD
TZOFFSETFROM:+0000
TZOFFSETTO:+0000
TZNAME:UTC
DTSTART:20250101T000000
END:STANDARD
END:VTIMEZONE
BEGIN:VEVENT
DTSTART;TZID=UTC:20260123T170000
DTEND;TZID=UTC:20260123T190000
DTSTAMP:20260419T145813
CREATED:20251215T180255Z
LAST-MODIFIED:20260122T182929Z
UID:1170-1769187600-1769194800@rescueusmission.org
SUMMARY:Light Of Hope 2026
DESCRIPTION:Due to the inclement weather forecasted for this weekend\, the Light of Hope Human Trafficking Awareness Event on January 23rd\, has been cancelled. If you were planning to attend\, we appreciate your interest. \n 
URL:https://rescueusmission.org/event/light-of-hope/
CATEGORIES:Rescue Us Mission
ATTACH;FMTTYPE=image/jpeg:https://rescueusmission.org/wp-content/uploads/2025/12/WhatsApp-Image-2026-01-06-at-22.48.24.jpeg
END:VEVENT
END:VCALENDAR