BEGIN:VCALENDAR
VERSION:2.0
PRODID:-//Rescue Us Mission - Today is a good day to be FREE! - ECPv6.15.19//NONSGML v1.0//EN
CALSCALE:GREGORIAN
METHOD:PUBLISH
X-ORIGINAL-URL:https://rescueusmission.org
X-WR-CALDESC:Events for Rescue Us Mission - Today is a good day to be FREE!
REFRESH-INTERVAL;VALUE=DURATION:PT1H
X-Robots-Tag:noindex
X-PUBLISHED-TTL:PT1H
BEGIN:VTIMEZONE
TZID:UTC
BEGIN:STANDARD
TZOFFSETFROM:+0000
TZOFFSETTO:+0000
TZNAME:UTC
DTSTART:20230101T000000
END:STANDARD
END:VTIMEZONE
BEGIN:VEVENT
DTSTART;TZID=UTC:20251210T080000
DTEND;TZID=UTC:20260228T170000
DTSTAMP:20260419T121846
CREATED:20251210T104959Z
LAST-MODIFIED:20251210T104959Z
UID:838-1765353600-1772298000@rescueusmission.org
SUMMARY:Walkathon 2025
DESCRIPTION:Walkathon 2025
URL:https://rescueusmission.org/event/walkathon-2025/
CATEGORIES:Walkathon
ATTACH;FMTTYPE=image/jpeg:https://rescueusmission.org/wp-content/uploads/2025/12/vidart_17-1024x1024-1.jpg
END:VEVENT
BEGIN:VEVENT
DTSTART;VALUE=DATE:20250928
DTEND;VALUE=DATE:20250929
DTSTAMP:20260419T121846
CREATED:20251219T204840Z
LAST-MODIFIED:20251219T204840Z
UID:1464-1759017600-1759103999@rescueusmission.org
SUMMARY:Walkathon 2025
DESCRIPTION:Rescue us Mission holds here annual walkathon to raise funds for survivors of human trafficking.
URL:https://rescueusmission.org/event/walkathon-2025-2/
CATEGORIES:Walkathon
ATTACH;FMTTYPE=image/jpeg:https://rescueusmission.org/wp-content/uploads/2025/12/WhatsApp-Image-2025-12-18-at-23.05.44.jpeg
END:VEVENT
BEGIN:VEVENT
DTSTART;VALUE=DATE:20240928
DTEND;VALUE=DATE:20240929
DTSTAMP:20260419T121846
CREATED:20251210T100959Z
LAST-MODIFIED:20251218T173308Z
UID:789-1727481600-1727567999@rescueusmission.org
SUMMARY:Walkathon 2024
DESCRIPTION:Rescue us Mission holds here annual walkathon to raise funds for survivors of human trafficking.
URL:https://rescueusmission.org/event/walkathon/
CATEGORIES:Walkathon
ATTACH;FMTTYPE=image/jpeg:https://rescueusmission.org/wp-content/uploads/2025/12/484438328_1051264143701044_3257254010285880377_n.jpg
END:VEVENT
END:VCALENDAR